Workbook

Sheet spese personale
A1: CALCOLO DEI DATI RELATIVI ALLE SPESE DI PERSONALE PER L'ANNUALITA' 2026 DEL COMUNE DI _______________
A3: Spesa di personale ai sensi dell’art. 33 c. 2 del dl 34/2019
A4: Anni | C4: 2025 | D4: 2026 | E4: 2027
A5: Spesa di personale | B5: Complessiva Lorda | C5: 0 | D5: 0 | E5: 0
A6: Componenti escluse | B6: IRAP | C6: 0 | D6: 0 | E6: 0
B7: Spese personale PNRR | C7: 0 | D7: 0 | E7: 0
B8: Spese di personale rimborsate | C8: 0 | D8: 0 | E8: 0
B9: Spese segretario rimborsate | C9: 0 | D9: 0 | E9: 0
B10: Incentivi tecnici | C10: 0 | D10: 0 | E10: 0
B11: Arretrati contrattuali | C11: 0 | D11: =H29 -> 0 | E11: 0
A12: Totali | C12: =C5-C6-C7-C8-C9-C10-C11 -> 0 | D12: =D5-D6-D7-D8-D9-D10-D11 -> 0 | E12: =E5-E6-E7-E8-E9-E10-E11 -> 0
A14: Entrate correnti | C14: 2023 | D14: 2024 | E14: 2025
C15: 0 | D15: 0 | E15: 0
A16: Fondo crediti dubbia esigibilità dell'ultima annualità delle entrate considerate | E16: 0
A18: Spesa di personale flessibile art. 9 c. 28 del dl 78/2010 | C18: anno 2009 | D18: 0 | E18: anno corrente | F18: 0
A20: CALCOLO COSTO DEGLI ARRETRATI CONTRATTUALI 2024 E 2025 IN DEROGA ALL'ART. 33 C. 2 DEL DL 34/2019
A22: Personale in servizio anno corrente
A23: area professionale | B23: differenza tabellare CCNL 2026 e 2022 | C23: tredicesima | D23: oneri | E23: oneri | F23: totale | G23: personale | H23: costo lordo
A24: operatori | B24: =19645.43-18283.31 -> 1362.12 | C24: =(B24/12)*13 -> 1475.63 | D24: =23.8%+2.88% -> 0.2668 | E24: =C24*D24 -> 393.69808 | F24: =C24+E24 -> 1869.3281 | G24: 0 | H24: =F24*G24*2 -> 0
A25: operatori esperti | B25: =20452.55-19034.51 -> 1418.04 | C25: =(B25/12)*13 -> 1536.21 | D25: =23.8%+2.88% -> 0.2668 | E25: =C25*D25 -> 409.86083 | F25: =C25+E25 -> 1946.0708 | G25: 0 | H25: =F25*G25*2 -> 0
A26: istruttori | B26: =22986.59-21392.87 -> 1593.72 | C26: =(B26/12)*13 -> 1726.53 | D26: =23.8%+2.88% -> 0.2668 | E26: =C26*D26 -> 460.6382 | F26: =C26+E26 -> 2187.1682 | G26: 0 | H26: =F26*G26*2 -> 0
A27: funzionari | B27: =24941.67-23212.35 -> 1729.32 | C27: =(B27/12)*13 -> 1873.43 | D27: =23.8%+2.88% -> 0.2668 | E27: =C27*D27 -> 499.83112 | F27: =C27+E27 -> 2373.2611 | G27: 0 | H27: =F27*G27*2 -> 0
A28: dirigenti | B28: =50005.77-47015.77 -> 2990 | C28: =B28 -> 2990 | D28: =23.8%+2.88% -> 0.2668 | E28: =C28*D28 -> 797.732 | F28: =C28+E28 -> 3787.732 | G28: 0 | H28: =F28*G28*2 -> 0
A29: totali | G29: =SUM(G24:G28) -> 0 | H29: =SUM(H24:H28) -> 0
A31: www.carmignaniconsulenza.com

Sheet limiti assunzioni
A1: ='spese personale'!A1 -> CALCOLO DEI DATI RELATIVI ALLE SPESE DI PERSONALE PER L'ANNUALITA' 2026 DEL COMUNE DI _______________
A3: spesa di personale ai sensi dell'art. 33 c. 2 DL 34/2019 | G3: valori soglia di rientro per la maggiore spesa
A4: spesa del personale lorda senza IRAP anno di riferimento | D4: ='spese personale'!C12 -> 0 | G4: comuni per fasce demografiche | J4: valore soglia
A5: spesa del personale lorda senza IRAP prevista anno corrente | D5: ='spese personale'!D12 -> 0 | G5: meno di 1.000 abitanti | J5: 0.335
A6: spesa del personale lorda senza IRAP prevista anno successivo | D6: ='spese personale'!E12 -> 0 | G6: da 1.000 a 1.999 abitanti | J6: 0.326
G7: da 2.000 a 2.999 abitanti | J7: 0.316
A8: comuni per fasce demografiche | C8: valore soglia | G8: da 3.000 a 4.999 abitanti | J8: 0.312
A9: meno di 1.000 abitanti | C9: 0.295 | G9: da 5.000 a 9.999 abitanti | J9: 0.309
A10: da 1.000 a 1.999 abitanti | C10: 0.286 | G10: da 10.000 a 59.999 abitanti | J10: 0.31
A11: da 2.000 a 2.999 abitanti | C11: 0.276 | G11: da 60.000 a 249.999 abitanti | J11: 0.316
A12: da 3.000 a 4.999 abitanti | C12: 0.272 | G12: da 250.000 a 1.499.999 abitanti | J12: 0.328
A13: da 5.000 a 9.999 abitanti | C13: 0.269 | G13: con e oltre 1.500.000 abitanti | J13: 0.293
A14: da 10.000 a 59.999 abitanti | C14: 0.27
A15: da 60.000 a 249.999 abitanti | C15: 0.276 | F15: calcolo del limite di spesa per soglia demografica
A16: da 250.000 a 1.499.999 abitanti | C16: 0.288 | F16: valore soglia | J16: 0
A17: con e oltre 1.500.000 abitanti | C17: 0.253 | F17: limite teorico spesa di personale lorda senza IRAP | J17: =J16*D23 -> 0
F18: ricalcolo limite spesa di personale lorda senza IRAP | J18: =D25*D23 -> 0
F19: limite effettivo spesa di personale lorda senza IRAP | J19: =IF((J18<=J17),J18,J17) -> 0
A20: accertamenti entrate correnti triennio di riferimento | D20: media
A21: ='spese personale'!C15 -> 0 | B21: ='spese personale'!D15 -> 0 | C21: ='spese personale'!E15 -> 0 | D21: =AVERAGE(A21:C21) -> 0 | F21: altre voci di spesa di personale che si aggiungono alla base di calcolo senza IRAP
A22: fondo crediti dubbia esigibilità anno di riferimento | D22: ='spese personale'!E16 -> 0 | F22: turn over non utilizzato successivo all'anno preso a base di calcolo | J22: 0
A23: valore entrate correnti da rapportare | D23: =D21-D22 -> 0 | F23: spesa per cessione di spazi assunzionali alle unioni | J23: 0
A24: rapporto spesa personale su entrate correnti | D24: =IF(D23=0,0,D4/D23) -> 0 | F24: spesa per l'aumento in deroga del salario accessorio | J24: 0
A25: limite rapporto spesa personale su entrate correnti | D25: =IF(D24>J16,D24,J16) -> 0
A26: N.B. in caso di percentuale intermedia occorre calcolare il nuovo obiettivo e il rapporto tra spesa personale e entrate correnti unicamente rispetto l'anno di riferimento | F26: altre voci di spesa di personale che impattano sull'anno corrente senza IRAP
F27: spesa dell'aumento delle ore del personale in servizio | J27: 0
F28: spesa differenziale delle progressioni verticali | J28: 0
A29: assunzioni flessibili, art. 9 c. 28 del dl 78/2010 | F29: spesa di personale in convenzione | J29: 0
A30: spese per assunzioni flessibili anno 2009 | F30: eventuali altre voci di spesa del personale da aggiungere | J30: 0
A31: ='spese personale'!D18 -> 0 | F31: altre spese di personale da aggiungere alla programmazione | J31: =SUM(J27:J30) -> 0
A32: spese per assunzioni flessibili anno corrente
A33: ='spese personale'!F18 -> 0
A34: verifica rispetto del limite
A35: =A31-A33 -> 0 | F35: www.carmignaniconsulenza.com
A41: nuove assunzioni da programmare per l'anno corrente calcolate sul costo personale lordo senza l'IRAP | I41: assunzioni programmate lorde
A42: area professionale | B42: tabellare | C42: tredicesima | D42: oneri | E42: oneri | F42: totale | G42: assunzioni programmate | H42: costo assunzioni al netto dell'IRAP | I42: costo totale assunzioni programmate al lordo dell'IRAP
A43: AREA OPERATORI | B43: 19753.07 | C43: =(B43/12)*13 -> 21399.159 | D43: =23.8%+2.88% -> 0.2668 | E43: =C43*D43 -> 5709.2957 | F43: =C43+E43 -> 27108.455 | G43: 0 | H43: =G43*F43 -> 0 | I43: =H43*108.5% -> 0
A44: AREA OPERATORI E. | B44: 20583.23 | C44: =(B44/12)*13 -> 22298.499 | D44: =23.8%+2.88% -> 0.2668 | E44: =C44*D44 -> 5949.2396 | F44: =C44+E44 -> 28247.739 | G44: 0 | H44: =G44*F44 -> 0 | I44: =H44*108.5% -> 0
A45: AREA ISTRUTTORI | B45: 23138.75 | C45: =(B45/12)*13 -> 25066.979 | D45: =23.8%+2.88% -> 0.2668 | E45: =C45*D45 -> 6687.87 | F45: =C45+E45 -> 31754.849 | G45: 0 | H45: =G45*F45 -> 0 | I45: =H45*108.5% -> 0
A46: AREA FUNZIONARI E.Q. | B46: 25114.11 | C46: =(B46/12)*13 -> 27206.953 | D46: =23.8%+2.88% -> 0.2668 | E46: =C46*D46 -> 7258.8149 | F46: =C46+E46 -> 34465.767 | G46: 0 | H46: =G46*F46 -> 0 | I46: =H46*108.5% -> 0
...

Sheet grafico
A1: ='spese personale'!A1 -> CALCOLO DEI DATI RELATIVI ALLE SPESE DI PERSONALE PER L'ANNUALITA' 2026 DEL COMUNE DI _______________
A2: spesa personale annualità di riferimento al netto componenti escluse - l. 296/2006 | B2: ='limiti assunzioni'!#REF! -> #REF!
A3: spesa personale prevista anno corrente al netto componenti escluse - l. 296/2006 | B3: ='limiti assunzioni'!#REF! -> #REF!
A4: limite spesa di personale lorda senza IRAP - dl 34/2019 | B4: ='limiti assunzioni'!J19 -> 0
A5: spesa del personale lorda senza IRAP prevista anno corrente - dl 34/2019 | B5: ='limiti assunzioni'!D5 -> 0
A6: nuova spesa di personale lorda senza IRAP programmata anno corrente - dl 34/2019 | B6: ='limiti assunzioni'!F59 -> 0
A33: www.carmignaniconsulenza.com

Sheet legenda
A1: ISTRUZIONI PER LA COMPILAZIONE DELL'APPLICAZIONE
A3: 1. Ai fini della compilazione dei fogli dell'applicazione, vanno inseriti i dati in tutte le celle di colore verde, le celle di colore rosso invece sono campi calcolati e preimpostati.
A5: 2. Ai fini della compilazione dell'applicazione, il foglio "spese di personale" serve per calcolare i valori delle spese di personale al netto delle componenti escluse. Mentre il foglio "limiti assunzioni" serve per verificare il rispetto dei limiti di spesa di personale e programmare le nuove assunzioni di personale.
A8: 3. Va compilato prima il foglio "spese di personale", se i dati inseriti sono corretti, i campi in verde del foglio "limiti assunzioni" vengono compilati in automatico.
A11: www.carmignaniconsulenza.com
